BEGIN:VCALENDAR
VERSION:2.0
PRODID:-//Jazzclub Leipzig e.V. //NONSGML Events //EN
CALSCALE:GREGORIAN
X-WR-CALNAME:Jazzclub Leipzig e.V.
BEGIN:VEVENT
X-CREATED:20240628T105836Z
UID:32941
DTEND;VALUE=DATE:20240831T220000
DTSTART;VALUE=DATE:20240831T200000
DTSTAMP:20260424T204557Z
LOCATION:Mediencampus Villa Ida
DESCRIPTION:Nordischer Jazz mit Wurzeln in den 1950er Jahren – die Nachfolgeband des Ida Karlsson Quartetts. Dexter Gordon war eines ihrer großen Vorbilder, inzwischen klingt Ida Karlsson Wretling wie Ida Karlsson […]
SUMMARY:Campus Jazz mit IDKA (SWE)
ORGANIZER:Jazzclub Leipzig e.V.
URL;VALUE=URI:https://www.jazzclub-leipzig.de/kategorie-jazzkalender/bloke-luna-vega/
TRANSP:OPAQUE
BEGIN:VALARM
ACTION:DISPLAY
TRIGGER;VALUE=DATE-TIME:20240831T190000Z
DESCRIPTION:Erinnerung an Campus Jazz mit IDKA (SWE)
END:VALARM
END:VEVENT
END:VCALENDAR
