BEGIN:VCALENDAR
VERSION:2.0
PRODID:-//Jazzclub Leipzig e.V. //NONSGML Events //EN
CALSCALE:GREGORIAN
X-WR-CALNAME:Jazzclub Leipzig e.V.
BEGIN:VEVENT
X-CREATED:20240628T092654Z
UID:32898
DTEND;VALUE=DATE:20240829T220000
DTSTART;VALUE=DATE:20240829T200000
DTSTAMP:20260424T192431Z
LOCATION:Conne Island
DESCRIPTION:Indie-Rock-Projekt der Schlagezugerin Ille can Dessel sowie des kanadischen Musikers Evan John Uschenko. Ihr Sound setzt sich dabei aus überwiegend düsteren, repetetiven Klangelementen zusammen, die Erinnerungen an Bands wie Joy […]
SUMMARY:Ghostwoman
ORGANIZER:Jazzclub Leipzig e.V.
URL;VALUE=URI:https://www.jazzclub-leipzig.de/kategorie-jazzkalender/ghostwoman-2/
TRANSP:OPAQUE
BEGIN:VALARM
ACTION:DISPLAY
TRIGGER;VALUE=DATE-TIME:20240829T190000Z
DESCRIPTION:Erinnerung an Ghostwoman
END:VALARM
END:VEVENT
END:VCALENDAR
