BEGIN:VCALENDAR
VERSION:2.0
PRODID:-//Jazzclub Leipzig e.V. //NONSGML Events //EN
CALSCALE:GREGORIAN
X-WR-CALNAME:Jazzclub Leipzig e.V.
BEGIN:VEVENT
X-CREATED:20240627T133750Z
UID:32877
DTEND;VALUE=DATE:20240830T220000
DTSTART;VALUE=DATE:20240830T200000
DTSTAMP:20260424T193644Z
LOCATION:Die Tonne  (Dresden)
DESCRIPTION:Gleichsam groovig, melancholisch und jazzig geht es zu beim Trio Sandman’s Calling. Angereichert wird ihr Sound zudem durch musikalische Einflüsse aus der Magreb-Region und des Nahen Ostens •  Gregor Frei (sax), […]
SUMMARY:Sandman’s Calling
ORGANIZER:Jazzclub Leipzig e.V.
URL;VALUE=URI:https://www.jazzclub-leipzig.de/kategorie-jazzkalender/sandmans-calling/
TRANSP:OPAQUE
BEGIN:VALARM
ACTION:DISPLAY
TRIGGER;VALUE=DATE-TIME:20240830T190000Z
DESCRIPTION:Erinnerung an Sandman&#8217\;s Calling
END:VALARM
END:VEVENT
END:VCALENDAR
