BEGIN:VCALENDAR
VERSION:2.0
PRODID:-//Jazzclub Leipzig e.V. //NONSGML Events //EN
CALSCALE:GREGORIAN
X-WR-CALNAME:Jazzclub Leipzig e.V.
BEGIN:VEVENT
X-CREATED:20240627T133309Z
UID:32871
DTEND;VALUE=DATE:20240827T213000
DTSTART;VALUE=DATE:20240827T193000
DTSTAMP:20260424T192258Z
LOCATION:Arena am Panometer
DESCRIPTION:»Gruppenkaraoke für alle«, lautet das Motto des Bühnenkozepts von Sing Della Sing. Auf der Bühne stehen mit Gunter Papperitz sowie Cem A. Süzer zwei Berliner Musiker, die das Publikum gekonnt […]
SUMMARY:Sing Dela Sing
ORGANIZER:Jazzclub Leipzig e.V.
URL;VALUE=URI:https://www.jazzclub-leipzig.de/kategorie-jazzkalender/sing-dela-sing/
TRANSP:OPAQUE
BEGIN:VALARM
ACTION:DISPLAY
TRIGGER;VALUE=DATE-TIME:20240827T183000Z
DESCRIPTION:Erinnerung an Sing Dela Sing
END:VALARM
END:VEVENT
END:VCALENDAR
