BEGIN:VCALENDAR
VERSION:2.0
PRODID:-//Jazzclub Leipzig e.V. //NONSGML Events //EN
CALSCALE:GREGORIAN
X-WR-CALNAME:Jazzclub Leipzig e.V.
BEGIN:VEVENT
X-CREATED:20240627T133004Z
UID:32867
DTEND;VALUE=DATE:20240825T210000
DTSTART;VALUE=DATE:20240825T190000
DTSTAMP:20260424T193224Z
LOCATION:Parkbühne
DESCRIPTION:Seit den späten 1980er Jahren tritt Helge Schneider als Soloartist in Erscheinung. Die Republik ist in der Zwischenzeit eine andere geworden, Schneider nicht. Noch immer ist er ein Meister seines […]
SUMMARY:Helge Schneider
ORGANIZER:Jazzclub Leipzig e.V.
URL;VALUE=URI:https://www.jazzclub-leipzig.de/kategorie-jazzkalender/helge-schneider-6/
TRANSP:OPAQUE
BEGIN:VALARM
ACTION:DISPLAY
TRIGGER;VALUE=DATE-TIME:20240825T180000Z
DESCRIPTION:Erinnerung an Helge Schneider
END:VALARM
END:VEVENT
END:VCALENDAR
