BEGIN:VCALENDAR
VERSION:2.0
PRODID:-//Jazzclub Leipzig e.V. //NONSGML Events //EN
CALSCALE:GREGORIAN
X-WR-CALNAME:Jazzclub Leipzig e.V.
BEGIN:VEVENT
X-CREATED:20240627T132736Z
UID:32865
DTEND;VALUE=DATE:20240824T220000
DTSTART;VALUE=DATE:20240824T200000
DTSTAMP:20260424T193408Z
LOCATION:Arena am Panometer
DESCRIPTION:Zwischen Alternative, Stoner, Psychedelic und Space Rock mäandernd, zerlegt das Berliner Trio Rotor seit 1998 regelmäßig die hiesigen Bühnen. Begleitet werden sie dabei vom Garage-Rock-Trtio Bikini Beach aus Konstanz • […]
SUMMARY:Rotor/ Bikini Beach
ORGANIZER:Jazzclub Leipzig e.V.
URL;VALUE=URI:https://www.jazzclub-leipzig.de/kategorie-jazzkalender/rotor-bikini-beach/
TRANSP:OPAQUE
BEGIN:VALARM
ACTION:DISPLAY
TRIGGER;VALUE=DATE-TIME:20240824T190000Z
DESCRIPTION:Erinnerung an Rotor/ Bikini Beach
END:VALARM
END:VEVENT
END:VCALENDAR
