BEGIN:VCALENDAR
VERSION:2.0
PRODID:-//Jazzclub Leipzig e.V. //NONSGML Events //EN
CALSCALE:GREGORIAN
X-WR-CALNAME:Jazzclub Leipzig e.V.
BEGIN:VEVENT
X-CREATED:20240627T132604Z
UID:32863
DTEND;VALUE=DATE:20240823T223000
DTSTART;VALUE=DATE:20240823T203000
DTSTAMP:20260424T192354Z
LOCATION:Geyserhaus
DESCRIPTION:Ab 2018 nahm uns die presigekrönte Serie »Babylon Berlin« mit in die Ober- und Unterwelten der deutschen Hauptstadt in den 1920er Jahren. Zentral dabei war das Moka Efti Orchestra, das […]
SUMMARY:Moka Efti Orchestra
ORGANIZER:Jazzclub Leipzig e.V.
URL;VALUE=URI:https://www.jazzclub-leipzig.de/kategorie-jazzkalender/moka-efti-orchestra-3/
TRANSP:OPAQUE
BEGIN:VALARM
ACTION:DISPLAY
TRIGGER;VALUE=DATE-TIME:20240823T193000Z
DESCRIPTION:Erinnerung an Moka Efti Orchestra
END:VALARM
END:VEVENT
END:VCALENDAR
