BEGIN:VCALENDAR
VERSION:2.0
PRODID:-//Jazzclub Leipzig e.V. //NONSGML Events //EN
CALSCALE:GREGORIAN
X-WR-CALNAME:Jazzclub Leipzig e.V.
BEGIN:VEVENT
X-CREATED:20240627T132457Z
UID:32861
DTEND;VALUE=DATE:20240822T223000
DTSTART;VALUE=DATE:20240822T203000
DTSTAMP:20260424T193407Z
LOCATION:Saalfelden
DESCRIPTION:Im beschaulichen Saalfelden – am Steinernen Meer in Österreich gelegen – findet seit 1978 das Jazzfestival Saalfelden statt. Neben klassischem Jazz werden ebenso neue Improvisationsmusik, zeitgenössische sowie elektronische Musik präsentiert […]
SUMMARY:Jazzfestival Saalfelden
ORGANIZER:Jazzclub Leipzig e.V.
URL;VALUE=URI:https://www.jazzclub-leipzig.de/kategorie-jazzkalender/jazzkalender-termine/jazzfestival-saalfelden-2/
TRANSP:OPAQUE
BEGIN:VALARM
ACTION:DISPLAY
TRIGGER;VALUE=DATE-TIME:20240822T193000Z
DESCRIPTION:Erinnerung an Jazzfestival Saalfelden
END:VALARM
END:VEVENT
END:VCALENDAR
