BEGIN:VCALENDAR
VERSION:2.0
PRODID:-//Jazzclub Leipzig e.V. //NONSGML Events //EN
CALSCALE:GREGORIAN
X-WR-CALNAME:Jazzclub Leipzig e.V.
BEGIN:VEVENT
X-CREATED:20240627T132233Z
UID:32857
DTEND;VALUE=DATE:20240819T223000
DTSTART;VALUE=DATE:20240819T203000
DTSTAMP:20260424T192448Z
LOCATION:UT Connewitz
DESCRIPTION:Seit 15 Jahren bewegen die Allah Las sich in einem undurchschaubaren Koordinatensystem zwischen Sorf Rock, Garage, Folk und Jangle Pop. Dazu kommen immer wieder Elemente aus Progressive und Art Rock […]
SUMMARY:Allah Las
ORGANIZER:Jazzclub Leipzig e.V.
URL;VALUE=URI:https://www.jazzclub-leipzig.de/kategorie-jazzkalender/allah-las/
TRANSP:OPAQUE
BEGIN:VALARM
ACTION:DISPLAY
TRIGGER;VALUE=DATE-TIME:20240819T193000Z
DESCRIPTION:Erinnerung an Allah Las
END:VALARM
END:VEVENT
END:VCALENDAR
