BEGIN:VCALENDAR
VERSION:2.0
PRODID:-//Jazzclub Leipzig e.V. //NONSGML Events //EN
CALSCALE:GREGORIAN
X-WR-CALNAME:Jazzclub Leipzig e.V.
BEGIN:VEVENT
X-CREATED:20240627T132106Z
UID:32855
DTEND;VALUE=DATE:20240816T200000
DTSTART;VALUE=DATE:20240816T180000
DTSTAMP:20260424T191409Z
LOCATION:Storkow
DESCRIPTION:Wer im August Urlaub machen und dabei dennoch nicht auf Musik verzichten möchte, ist beim Alinae Lumr in der beschaulichen brandenbrurgischen Kleinstadt Storkow genau richtig: In Burgen, auf Marktplätzen und […]
SUMMARY:Alinae Lumr
ORGANIZER:Jazzclub Leipzig e.V.
URL;VALUE=URI:https://www.jazzclub-leipzig.de/kategorie-jazzkalender/alinae-lumr/
TRANSP:OPAQUE
BEGIN:VALARM
ACTION:DISPLAY
TRIGGER;VALUE=DATE-TIME:20240816T170000Z
DESCRIPTION:Erinnerung an Alinae Lumr
END:VALARM
END:VEVENT
END:VCALENDAR
