BEGIN:VCALENDAR
VERSION:2.0
PRODID:-//Jazzclub Leipzig e.V. //NONSGML Events //EN
CALSCALE:GREGORIAN
X-WR-CALNAME:Jazzclub Leipzig e.V.
BEGIN:VEVENT
X-CREATED:20240627T131929Z
UID:32852
DTEND;VALUE=DATE:20240816T200000
DTSTART;VALUE=DATE:20240816T180000
DTSTAMP:20260424T193434Z
LOCATION:Eisen- und Hüttenwerk Peitz
DESCRIPTION:Zu DDR-Zeiten nannte man sie liebevoll »Woodstock am Karpfenteich«. Doch nachdem die Jazzwerkstatt Peitz 1973 ins Leben gerufen wurde, beendeten staatliche Behörden nur neun Jahre später das bunte Treiben und verboten das Festival. Erst Jahre später, die Mauer war längst gefallen, wurde es wieder reaktiviert. Das war im Jahr 2011.
SUMMARY:Jazzwerkstatt Peitz (16.-18.08.24)
ORGANIZER:Jazzclub Leipzig e.V.
URL;VALUE=URI:https://www.jazzclub-leipzig.de/kategorie-jazzkalender/jazzwerkstatt-peitz/
TRANSP:OPAQUE
BEGIN:VALARM
ACTION:DISPLAY
TRIGGER;VALUE=DATE-TIME:20240816T170000Z
DESCRIPTION:Erinnerung an Jazzwerkstatt Peitz (16.-18.08.24)
END:VALARM
END:VEVENT
END:VCALENDAR
