BEGIN:VCALENDAR
VERSION:2.0
PRODID:-//Jazzclub Leipzig e.V. //NONSGML Events //EN
CALSCALE:GREGORIAN
X-WR-CALNAME:Jazzclub Leipzig e.V.
BEGIN:VEVENT
X-CREATED:20240627T131810Z
UID:32850
DTEND;VALUE=DATE:20240816T200000
DTSTART;VALUE=DATE:20240816T180000
DTSTAMP:20260424T193824Z
LOCATION:Geyerhaus
DESCRIPTION:Deutsche Songwriterin, die zwischen Folk, HipHop, Jazz und Electronica Ping-Pong spielt. Kürzlich erschien ihr neues Album »Baum« • Tickets im VVK ab 39,75 €
SUMMARY:Mine
ORGANIZER:Jazzclub Leipzig e.V.
URL;VALUE=URI:https://www.jazzclub-leipzig.de/kategorie-jazzkalender/mine-2/
TRANSP:OPAQUE
BEGIN:VALARM
ACTION:DISPLAY
TRIGGER;VALUE=DATE-TIME:20240816T170000Z
DESCRIPTION:Erinnerung an Mine
END:VALARM
END:VEVENT
END:VCALENDAR
