BEGIN:VCALENDAR
VERSION:2.0
PRODID:-//Jazzclub Leipzig e.V. //NONSGML Events //EN
CALSCALE:GREGORIAN
X-WR-CALNAME:Jazzclub Leipzig e.V.
BEGIN:VEVENT
X-CREATED:20240627T131630Z
UID:32848
DTEND;VALUE=DATE:20240809T220000
DTSTART;VALUE=DATE:20240809T200000
DTSTAMP:20260424T192144Z
LOCATION:Parkbühne
DESCRIPTION:„Sei ein Faber im Wind“, sang der Schweizer Sänger vor einigen Jahren im gleichnamigen Song. Ein Fähnchen im Wind ist der Chansonnier dabei keineswegs, und dafür belohnt ihn sein Publikum […]
SUMMARY:Faber
ORGANIZER:Jazzclub Leipzig e.V.
URL;VALUE=URI:https://www.jazzclub-leipzig.de/kategorie-jazzkalender/faber-3/
TRANSP:OPAQUE
BEGIN:VALARM
ACTION:DISPLAY
TRIGGER;VALUE=DATE-TIME:20240809T190000Z
DESCRIPTION:Erinnerung an Faber
END:VALARM
END:VEVENT
END:VCALENDAR
