BEGIN:VCALENDAR
VERSION:2.0
PRODID:-//Jazzclub Leipzig e.V. //NONSGML Events //EN
CALSCALE:GREGORIAN
X-WR-CALNAME:Jazzclub Leipzig e.V.
BEGIN:VEVENT
X-CREATED:20240627T131240Z
UID:32844
DTEND;VALUE=DATE:20240802T220000
DTSTART;VALUE=DATE:20240802T200000
DTSTAMP:20260424T205551Z
LOCATION:Werk 2
DESCRIPTION:Gemeinsam mit Steffen Schorn präsentiert das JJO Sachsen ein vielfältiges Abendprogramm, dessen Kompositionen und Arrangements nicht zuletzt von zahlreichen Auslandsreisen Schorns in über 70 verschiedenen Ländern geprägt ist • VVK […]
SUMMARY:Colours of our World: Konzert des Jugendjazzorchesters Sachsen
ORGANIZER:Jazzclub Leipzig e.V.
URL;VALUE=URI:https://www.jazzclub-leipzig.de/kategorie-jazzkalender/colours-of-our-world-konzert-des-jugendjazzorchesters-sachsen/
TRANSP:OPAQUE
BEGIN:VALARM
ACTION:DISPLAY
TRIGGER;VALUE=DATE-TIME:20240802T190000Z
DESCRIPTION:Erinnerung an Colours of our World: Konzert des Jugendjazzorchesters Sachsen
END:VALARM
END:VEVENT
END:VCALENDAR
