BEGIN:VCALENDAR
VERSION:2.0
PRODID:-//Jazzclub Leipzig e.V. //NONSGML Events //EN
CALSCALE:GREGORIAN
X-WR-CALNAME:Jazzclub Leipzig e.V.
BEGIN:VEVENT
X-CREATED:20240627T131121Z
UID:32842
DTEND;VALUE=DATE:20240731T220000
DTSTART;VALUE=DATE:20240731T200000
DTSTAMP:20260424T192207Z
LOCATION:Blue Note (Dresden)
DESCRIPTION:Viele Jahre war Matej Korbelič als Sideman in zahlreichen Musikprojekten aktiv. Seit 2021 steht er nun mit seinem eigenen Qaurtett auf der Bühne. Die vier jungen Musiker präsentieren einen Mix […]
SUMMARY:Matej Korbelič Quartett
ORGANIZER:Jazzclub Leipzig e.V.
URL;VALUE=URI:https://www.jazzclub-leipzig.de/kategorie-jazzkalender/matej-korbelic-quartett/
TRANSP:OPAQUE
BEGIN:VALARM
ACTION:DISPLAY
TRIGGER;VALUE=DATE-TIME:20240731T190000Z
DESCRIPTION:Erinnerung an Matej Korbelič Quartett
END:VALARM
END:VEVENT
END:VCALENDAR
