BEGIN:VCALENDAR
VERSION:2.0
PRODID:-//Jazzclub Leipzig e.V. //NONSGML Events //EN
CALSCALE:GREGORIAN
X-WR-CALNAME:Jazzclub Leipzig e.V.
BEGIN:VEVENT
X-CREATED:20240627T130901Z
UID:32838
DTEND;VALUE=DATE:20240725T220000
DTSTART;VALUE=DATE:20240725T200000
DTSTAMP:20260424T223122Z
LOCATION:Inselbühne
DESCRIPTION:Eine frühe Komödie des altenglischen Meisters. Präsentiert vom Moritzbastei-Sommertheater an insgesamt 15 Abenden im Juli und August auf der Inselbühne • Tickets im VVK ab 13,20 €
SUMMARY:Playing Shakespeare – We Lost in Confusion
ORGANIZER:Jazzclub Leipzig e.V.
URL;VALUE=URI:https://www.jazzclub-leipzig.de/kategorie-jazzkalender/playing-shakespeare-we-lost-in-confusion/
TRANSP:OPAQUE
BEGIN:VALARM
ACTION:DISPLAY
TRIGGER;VALUE=DATE-TIME:20240725T190000Z
DESCRIPTION:Erinnerung an Playing Shakespeare &#8211\; We Lost in Confusion
END:VALARM
END:VEVENT
END:VCALENDAR
