BEGIN:VCALENDAR
VERSION:2.0
PRODID:-//Jazzclub Leipzig e.V. //NONSGML Events //EN
CALSCALE:GREGORIAN
X-WR-CALNAME:Jazzclub Leipzig e.V.
BEGIN:VEVENT
X-CREATED:20240627T130727Z
UID:32836
DTEND;VALUE=DATE:20240725T190000
DTSTART;VALUE=DATE:20240725T170000
DTSTAMP:20260424T205150Z
LOCATION:Weißes Haus Markleeberg
DESCRIPTION:HMT-Studierende der Klasse von Prof. Nick Deutsch präsentieren ein musikalisches Soirée • Eintritt 4-6 €
SUMMARY:Musikalische Soiree: Klassenkonzert Oboe mit Bläserquintettten
ORGANIZER:Jazzclub Leipzig e.V.
URL;VALUE=URI:https://www.jazzclub-leipzig.de/kategorie-jazzkalender/musikalische-soiree-klassenkonzert-oboe-mit-blaeserquintettten/
TRANSP:OPAQUE
BEGIN:VALARM
ACTION:DISPLAY
TRIGGER;VALUE=DATE-TIME:20240725T160000Z
DESCRIPTION:Erinnerung an Musikalische Soiree: Klassenkonzert Oboe mit Bläserquintettten
END:VALARM
END:VEVENT
END:VCALENDAR
