BEGIN:VCALENDAR
VERSION:2.0
PRODID:-//Jazzclub Leipzig e.V. //NONSGML Events //EN
CALSCALE:GREGORIAN
X-WR-CALNAME:Jazzclub Leipzig e.V.
BEGIN:VEVENT
X-CREATED:20240627T130429Z
UID:32834
DTEND;VALUE=DATE:20240725T190000
DTSTART;VALUE=DATE:20240725T170000
DTSTAMP:20260422T105940Z
LOCATION:HMT
DESCRIPTION:An insgesamt vier Tagen werden gegenwärtige künstlerische Herausforderungen sowie Perspektiven auf aktuelle Ästhetiken in Vorträgen, Workshops und Coaching-Einheiten beleuchtet und diskutiert. Eine vorherige Anmeldung ist erforlderlich • Teilnahmegebühr 125 €
SUMMARY:Sommerakademie für Gegenwartsmusik Contemporary Insights
ORGANIZER:Jazzclub Leipzig e.V.
URL;VALUE=URI:https://www.jazzclub-leipzig.de/kategorie-jazzkalender/sommerakademie-fuer-gegenwartsmusik-contemporary-insights/
TRANSP:OPAQUE
BEGIN:VALARM
ACTION:DISPLAY
TRIGGER;VALUE=DATE-TIME:20240725T160000Z
DESCRIPTION:Erinnerung an Sommerakademie für Gegenwartsmusik Contemporary Insights
END:VALARM
END:VEVENT
END:VCALENDAR
