BEGIN:VCALENDAR
VERSION:2.0
PRODID:-//Jazzclub Leipzig e.V. //NONSGML Events //EN
CALSCALE:GREGORIAN
X-WR-CALNAME:Jazzclub Leipzig e.V.
BEGIN:VEVENT
X-CREATED:20240627T130240Z
UID:32832
DTEND;VALUE=DATE:20240725T220000
DTSTART;VALUE=DATE:20240725T200000
DTSTAMP:20260424T223122Z
LOCATION:Blue Note (Dresden)
DESCRIPTION:Die brasilianische Sängerin faszniert mit mit einer unnachahmlichen Stimme und und bewegt sich mit ihrer Musik zwischen Samba, Bossa Nova und Jazz. In ihrem Heimatland ist sie eine etablierte Künstlerin. […]
SUMMARY:Fernanda Santanna Trio
ORGANIZER:Jazzclub Leipzig e.V.
URL;VALUE=URI:https://www.jazzclub-leipzig.de/kategorie-jazzkalender/fernanda-santanna-trio/
TRANSP:OPAQUE
BEGIN:VALARM
ACTION:DISPLAY
TRIGGER;VALUE=DATE-TIME:20240725T190000Z
DESCRIPTION:Erinnerung an Fernanda Santanna Trio
END:VALARM
END:VEVENT
END:VCALENDAR
