BEGIN:VCALENDAR
VERSION:2.0
PRODID:-//Jazzclub Leipzig e.V. //NONSGML Events //EN
CALSCALE:GREGORIAN
X-WR-CALNAME:Jazzclub Leipzig e.V.
BEGIN:VEVENT
X-CREATED:20240627T125905Z
UID:32827
DTEND;VALUE=DATE:20240720T220000
DTSTART;VALUE=DATE:20240720T200000
DTSTAMP:20260424T205258Z
LOCATION:Blue Note (Dresden)
DESCRIPTION:Wieso sollte zeitgenössischer instrumentaler Jazz nicht auch Ohrwürmer erzeugen können?“, fragten sich die Mitglieder des nähmaschinenQuartetts vor 10 Jahren, und begannen fortan, gemeinsame Musik zu machen. So vereinen sie Elemente […]
SUMMARY:nähmaschinenQuartett
ORGANIZER:Jazzclub Leipzig e.V.
URL;VALUE=URI:https://www.jazzclub-leipzig.de/kategorie-jazzkalender/naehmaschinenquartett/
TRANSP:OPAQUE
BEGIN:VALARM
ACTION:DISPLAY
TRIGGER;VALUE=DATE-TIME:20240720T190000Z
DESCRIPTION:Erinnerung an nähmaschinenQuartett
END:VALARM
END:VEVENT
END:VCALENDAR
