BEGIN:VCALENDAR
VERSION:2.0
PRODID:-//Jazzclub Leipzig e.V. //NONSGML Events //EN
CALSCALE:GREGORIAN
X-WR-CALNAME:Jazzclub Leipzig e.V.
BEGIN:VEVENT
X-CREATED:20240627T125650Z
UID:32825
DTEND;VALUE=DATE:20240720T200000
DTSTART;VALUE=DATE:20240720T180000
DTSTAMP:20260424T223128Z
LOCATION:Werk 2
DESCRIPTION:Das Radio-Inklusive setzt sich für mehr Sichtbarkeit von Menschen mit Beeinträchtigungen ein. In diesem Jahr feiern die Macher*innen des Senders ihre Sommer-Soli-Party im Werk 2
SUMMARY:Radio Inklusive – Sommer-Soli-Party
ORGANIZER:Jazzclub Leipzig e.V.
URL;VALUE=URI:https://www.jazzclub-leipzig.de/kategorie-jazzkalender/jazzkalender-termine/jazzkalender-termine-konzert/radio-inklusive-sommer-soli-party/
TRANSP:OPAQUE
BEGIN:VALARM
ACTION:DISPLAY
TRIGGER;VALUE=DATE-TIME:20240720T170000Z
DESCRIPTION:Erinnerung an Radio Inklusive &#8211\; Sommer-Soli-Party
END:VALARM
END:VEVENT
END:VCALENDAR
