BEGIN:VCALENDAR
VERSION:2.0
PRODID:-//Jazzclub Leipzig e.V. //NONSGML Events //EN
CALSCALE:GREGORIAN
X-WR-CALNAME:Jazzclub Leipzig e.V.
BEGIN:VEVENT
X-CREATED:20240627T125506Z
UID:32823
DTEND;VALUE=DATE:20240718T230000
DTSTART;VALUE=DATE:20240718T210000
DTSTAMP:20260424T205257Z
LOCATION:Stuttgart
DESCRIPTION:In diesem Jahr begeht das Jazz-Open-Festival in Stuttgart sein 30. Jubiläum. Wie auch in den Jahren zuvor wird auch dieses Mal ein ein bunter Stilmix aus Jazz und artverwandten Stilrichtungen […]
SUMMARY:Jazz Open Stuttgart
ORGANIZER:Jazzclub Leipzig e.V.
URL;VALUE=URI:https://www.jazzclub-leipzig.de/kategorie-jazzkalender/jazz-open-stuttgart/
TRANSP:OPAQUE
BEGIN:VALARM
ACTION:DISPLAY
TRIGGER;VALUE=DATE-TIME:20240718T200000Z
DESCRIPTION:Erinnerung an Jazz Open Stuttgart
END:VALARM
END:VEVENT
END:VCALENDAR
