BEGIN:VCALENDAR
VERSION:2.0
PRODID:-//Jazzclub Leipzig e.V. //NONSGML Events //EN
CALSCALE:GREGORIAN
X-WR-CALNAME:Jazzclub Leipzig e.V.
BEGIN:VEVENT
X-CREATED:20240627T125300Z
UID:32820
DTEND;VALUE=DATE:20240717T220000
DTSTART;VALUE=DATE:20240717T200000
DTSTAMP:20260424T213607Z
LOCATION:Blue Note (Dresden)
DESCRIPTION:Das Quartett präsentiert Modern Jazz und stand in den vergangenen Jahren bereits auf den Bühnen diverser Jazz-Festivals in Italien, Österreich, Slowenien, Großbritannien und Deutschland • Lorenzo Bellini (p), Luca De […]
SUMMARY:The Bellini Quartet
ORGANIZER:Jazzclub Leipzig e.V.
URL;VALUE=URI:https://www.jazzclub-leipzig.de/kategorie-jazzkalender/the-bellini-quartet/
TRANSP:OPAQUE
BEGIN:VALARM
ACTION:DISPLAY
TRIGGER;VALUE=DATE-TIME:20240717T190000Z
DESCRIPTION:Erinnerung an The Bellini Quartet
END:VALARM
END:VEVENT
END:VCALENDAR
