BEGIN:VCALENDAR
VERSION:2.0
PRODID:-//Jazzclub Leipzig e.V. //NONSGML Events //EN
CALSCALE:GREGORIAN
X-WR-CALNAME:Jazzclub Leipzig e.V.
BEGIN:VEVENT
X-CREATED:20240627T125113Z
UID:32819
DTEND;VALUE=DATE:20240715T220000
DTSTART;VALUE=DATE:20240715T200000
DTSTAMP:20260424T205225Z
LOCATION:Blue Note (Dresden)
DESCRIPTION:Argentinisches Trio, das Jazz- und Swing-Songs der 1920er und -30er Jahre in einer zeitgenössischen Interpretation präsentiert • Mariana Piatti (voc), Rodrigo Fernandez (git), Guillermo Delfino (kb), Bruno Vravero (kb) • […]
SUMMARY:Alapar Jazz
ORGANIZER:Jazzclub Leipzig e.V.
URL;VALUE=URI:https://www.jazzclub-leipzig.de/kategorie-jazzkalender/alapar-jazz/
TRANSP:OPAQUE
BEGIN:VALARM
ACTION:DISPLAY
TRIGGER;VALUE=DATE-TIME:20240715T190000Z
DESCRIPTION:Erinnerung an Alapar Jazz
END:VALARM
END:VEVENT
END:VCALENDAR
