BEGIN:VCALENDAR
VERSION:2.0
PRODID:-//Jazzclub Leipzig e.V. //NONSGML Events //EN
CALSCALE:GREGORIAN
X-WR-CALNAME:Jazzclub Leipzig e.V.
BEGIN:VEVENT
X-CREATED:20240627T124815Z
UID:32815
DTEND;VALUE=DATE:20240713T003000
DTSTART;VALUE=DATE:20240712T223000
DTSTAMP:20260424T212506Z
LOCATION:Ilses Erika
DESCRIPTION:Referenzen beggreifen Smile nicht als Dogma, sondern als Möglichkeitsräume. So bewegen sie sich im Bereich des Post Punk und halten sich dennoch stets die Möglichkeit offen, nach links oder rechts, […]
SUMMARY:Smile
ORGANIZER:Jazzclub Leipzig e.V.
URL;VALUE=URI:https://www.jazzclub-leipzig.de/kategorie-jazzkalender/smile/
TRANSP:OPAQUE
BEGIN:VALARM
ACTION:DISPLAY
TRIGGER;VALUE=DATE-TIME:20240712T213000Z
DESCRIPTION:Erinnerung an Smile
END:VALARM
END:VEVENT
END:VCALENDAR
