BEGIN:VCALENDAR
VERSION:2.0
PRODID:-//Jazzclub Leipzig e.V. //NONSGML Events //EN
CALSCALE:GREGORIAN
X-WR-CALNAME:Jazzclub Leipzig e.V.
BEGIN:VEVENT
X-CREATED:20240627T124315Z
UID:32811
DTEND;VALUE=DATE:20240711T220000
DTSTART;VALUE=DATE:20240711T200000
DTSTAMP:20260424T205225Z
LOCATION:Parkbühne
DESCRIPTION:1980 feierten Kool & The Gang mit »Celebration« ihren größten Hit. Doch auch heute sind die Soul- und Disco-Pioniere noch auf der Bühne aktiv • VVK 76,25 €
SUMMARY:Kool & The Gang
ORGANIZER:Jazzclub Leipzig e.V.
URL;VALUE=URI:https://www.jazzclub-leipzig.de/kategorie-jazzkalender/kool-the-gang/
TRANSP:OPAQUE
BEGIN:VALARM
ACTION:DISPLAY
TRIGGER;VALUE=DATE-TIME:20240711T190000Z
DESCRIPTION:Erinnerung an Kool &amp\; The Gang
END:VALARM
END:VEVENT
END:VCALENDAR
