BEGIN:VCALENDAR
VERSION:2.0
PRODID:-//Jazzclub Leipzig e.V. //NONSGML Events //EN
CALSCALE:GREGORIAN
X-WR-CALNAME:Jazzclub Leipzig e.V.
BEGIN:VEVENT
X-CREATED:20240627T124139Z
UID:32809
DTEND;VALUE=DATE:20240707T210000
DTSTART;VALUE=DATE:20240707T190000
DTSTAMP:20260424T225818Z
LOCATION:Haus Auensee
DESCRIPTION:Einst erfand er mit Pink Floyd den Progressive Rock, seit 2018 tut er es nun seinen beiden ehemaligen Bandkollegen David Gilmour und Roger Waters gleich und bewegt sich auf Solopfaden. […]
SUMMARY:Nick Mason’s Saucerful Of Secrets
ORGANIZER:Jazzclub Leipzig e.V.
URL;VALUE=URI:https://www.jazzclub-leipzig.de/kategorie-jazzkalender/nick-masons-saucerful-of-secrets-2/
TRANSP:OPAQUE
BEGIN:VALARM
ACTION:DISPLAY
TRIGGER;VALUE=DATE-TIME:20240707T180000Z
DESCRIPTION:Erinnerung an Nick Mason&#8217\;s Saucerful Of Secrets
END:VALARM
END:VEVENT
END:VCALENDAR
