BEGIN:VCALENDAR
VERSION:2.0
PRODID:-//Jazzclub Leipzig e.V. //NONSGML Events //EN
CALSCALE:GREGORIAN
X-WR-CALNAME:Jazzclub Leipzig e.V.
BEGIN:VEVENT
X-CREATED:20240627T124011Z
UID:32807
DTEND;VALUE=DATE:20240705T220000
DTSTART;VALUE=DATE:20240705T200000
DTSTAMP:20260424T212551Z
LOCATION:Montreux
DESCRIPTION:Seit der ersten Ausgabe 1967 hat sich das Montreux zu einem der größten Festivals Europas entwickelt. An insgesamt 16 Tagen können 380 Konzerte auf 11 verschiedenen Bühnen besucht werden – […]
SUMMARY:Montreux Jazz Festival
ORGANIZER:Jazzclub Leipzig e.V.
URL;VALUE=URI:https://www.jazzclub-leipzig.de/kategorie-jazzkalender/montreux-jazz-festival/
TRANSP:OPAQUE
BEGIN:VALARM
ACTION:DISPLAY
TRIGGER;VALUE=DATE-TIME:20240705T190000Z
DESCRIPTION:Erinnerung an Montreux Jazz Festival
END:VALARM
END:VEVENT
END:VCALENDAR
