BEGIN:VCALENDAR
VERSION:2.0
PRODID:-//Jazzclub Leipzig e.V. //NONSGML Events //EN
CALSCALE:GREGORIAN
X-WR-CALNAME:Jazzclub Leipzig e.V.
BEGIN:VEVENT
X-CREATED:20240627T123455Z
UID:32803
DTEND;VALUE=DATE:20240708T220000
DTSTART;VALUE=DATE:20240708T200000
DTSTAMP:20260424T205150Z
LOCATION:naTo
DESCRIPTION:Normalerweise in der Welt des Avantgarde-Jazz beheimatet, werden mit seinem Soloprojekt weniger bekannte Leidenschaften von Lukas Heckers in den Bewreichen Funk, HipHop und elektronischer Musik sichtbar. Arthur Koolhaas hingegen präsentiert […]
SUMMARY:Lukas Heckers und Arthur Kohlhaas, HMT-Bachelor-Abschlusskonzert
ORGANIZER:Jazzclub Leipzig e.V.
URL;VALUE=URI:https://www.jazzclub-leipzig.de/kategorie-jazzkalender/jazzkalender-termine/lukas-heckers-und-arthur-kohlhaas-hmt-bachelor-abschlusskonzert/
TRANSP:OPAQUE
BEGIN:VALARM
ACTION:DISPLAY
TRIGGER;VALUE=DATE-TIME:20240708T190000Z
DESCRIPTION:Erinnerung an Lukas Heckers und Arthur Kohlhaas\, HMT-Bachelor-Abschlusskonzert
END:VALARM
END:VEVENT
END:VCALENDAR
