BEGIN:VCALENDAR
VERSION:2.0
PRODID:-//Jazzclub Leipzig e.V. //NONSGML Events //EN
CALSCALE:GREGORIAN
X-WR-CALNAME:Jazzclub Leipzig e.V.
BEGIN:VEVENT
X-CREATED:20240627T123243Z
UID:32801
DTEND;VALUE=DATE:20240705T220000
DTSTART;VALUE=DATE:20240705T200000
DTSTAMP:20260424T205539Z
LOCATION:Blue Note (Dresden)
DESCRIPTION:Das Quartett besticht mit einer ganz eigenen Mischung aus heiterem Swing und melancholischem Chanson. Dabei zeigen sie sich inspiriert von ihren Helden Django Reinhardt und Stepane Grappeli • Ernesto (voc, […]
SUMMARY:Monsieur Pompadour
ORGANIZER:Jazzclub Leipzig e.V.
URL;VALUE=URI:https://www.jazzclub-leipzig.de/kategorie-jazzkalender/monsieur-pompadour/
TRANSP:OPAQUE
BEGIN:VALARM
ACTION:DISPLAY
TRIGGER;VALUE=DATE-TIME:20240705T190000Z
DESCRIPTION:Erinnerung an Monsieur Pompadour
END:VALARM
END:VEVENT
END:VCALENDAR
