BEGIN:VCALENDAR
VERSION:2.0
PRODID:-//Jazzclub Leipzig e.V. //NONSGML Events //EN
CALSCALE:GREGORIAN
X-WR-CALNAME:Jazzclub Leipzig e.V.
BEGIN:VEVENT
X-CREATED:20240627T121803Z
UID:32797
DTEND;VALUE=DATE:20240703T220000
DTSTART;VALUE=DATE:20240703T200000
DTSTAMP:20260424T225508Z
LOCATION:Blue Note (Dresden)
DESCRIPTION:Mit Bezug auf Hesse, demzufolge etwas zu finden bedeute, frei zu sein und kein Ziel zu haben, spielt das Quartett Eigenkompositionen im Grenbbereich von Acoustic Fusion sowie Modern Jazz • […]
SUMMARY:Siddharta
ORGANIZER:Jazzclub Leipzig e.V.
URL;VALUE=URI:https://www.jazzclub-leipzig.de/kategorie-jazzkalender/siddharta/
TRANSP:OPAQUE
BEGIN:VALARM
ACTION:DISPLAY
TRIGGER;VALUE=DATE-TIME:20240703T190000Z
DESCRIPTION:Erinnerung an Siddharta
END:VALARM
END:VEVENT
END:VCALENDAR
