BEGIN:VCALENDAR
VERSION:2.0
PRODID:-//Jazzclub Leipzig e.V. //NONSGML Events //EN
CALSCALE:GREGORIAN
X-WR-CALNAME:Jazzclub Leipzig e.V.
BEGIN:VEVENT
X-CREATED:20240627T121435Z
UID:32795
DTEND;VALUE=DATE:20240702T200000
DTSTART;VALUE=DATE:20240702T180000
DTSTAMP:20260424T224435Z
LOCATION:Stanglerhof (Völs am Schlern)
DESCRIPTION:Im vergangenen Jahr  standen der Trentiner Vibraphonist Mirko Pedrotti sowie der Leipziger Drummer Daniel Klein im Rahmen der 47. Leipziger Jazztage erstmals gemeinsam auf der Bühne. Der Kollaboration vorausgegangen war eine […]
SUMMARY:Pedrotti/ Klein/ Goller
ORGANIZER:Jazzclub Leipzig e.V.
URL;VALUE=URI:https://www.jazzclub-leipzig.de/kategorie-jazzkalender/pedrotti-klein-goller/
TRANSP:OPAQUE
BEGIN:VALARM
ACTION:DISPLAY
TRIGGER;VALUE=DATE-TIME:20240702T170000Z
DESCRIPTION:Erinnerung an Pedrotti/ Klein/ Goller
END:VALARM
END:VEVENT
END:VCALENDAR
