BEGIN:VCALENDAR
VERSION:2.0
PRODID:-//Jazzclub Leipzig e.V. //NONSGML Events //EN
CALSCALE:GREGORIAN
X-WR-CALNAME:Jazzclub Leipzig e.V.
BEGIN:VEVENT
X-CREATED:20240627T120623Z
UID:32790
DTEND;VALUE=DATE:20240702T220000
DTSTART;VALUE=DATE:20240702T200000
DTSTAMP:20260425T002656Z
LOCATION:Blue Note (Dresden)
DESCRIPTION:Die Musik des Trios bietet viel Platz für explosive Improvisationen, die von fetten Rhythmen und schweren Basslinien durchzogen werden • Malte Wibell (dr, comp), Isak Ingvarsson (ts), Jakob Astrup (kb) […]
SUMMARY:Malte Wibell Trio
ORGANIZER:Jazzclub Leipzig e.V.
URL;VALUE=URI:https://www.jazzclub-leipzig.de/kategorie-jazzkalender/32790/
TRANSP:OPAQUE
BEGIN:VALARM
ACTION:DISPLAY
TRIGGER;VALUE=DATE-TIME:20240702T190000Z
DESCRIPTION:Erinnerung an Malte Wibell Trio
END:VALARM
END:VEVENT
END:VCALENDAR
