BEGIN:VCALENDAR
VERSION:2.0
PRODID:-//Jazzclub Leipzig e.V. //NONSGML Events //EN
CALSCALE:GREGORIAN
X-WR-CALNAME:Jazzclub Leipzig e.V.
BEGIN:VEVENT
X-CREATED:20240617T170600Z
UID:32720
DTEND;VALUE=DATE:20241019T213000
DTSTART;VALUE=DATE:20241019T193000
DTSTAMP:20260419T210920Z
LOCATION:Oper Leipzig \, Augustuspl. 12\,  04109 Leipzig
DESCRIPTION:Doppelkonzert mit Cécile McLorin Salvant.; Joachim Kühn, der im März 80 Jahre alt geworden ist, erhielt in diesem Jahr das Bundesverdienstkreuz Erster Klasse. Freie Improvisation sei für ihn „der Sinn des Lebens“, hat der gebürtige Leipziger immer wieder betont. Schon im Alter von 18 Jahren war er professioneller Jazzmusiker in der DDR. ;
SUMMARY:Michael Wollny & Joachim Kühn
ORGANIZER:Jazzclub Leipzig e.V.
URL;VALUE=URI:https://www.jazzclub-leipzig.de/kategorie-jazzclub/wollny-kuehn/
TRANSP:OPAQUE
BEGIN:VALARM
ACTION:DISPLAY
TRIGGER;VALUE=DATE-TIME:20241019T183000Z
DESCRIPTION:Erinnerung an Michael Wollny &amp\; Joachim Kühn
END:VALARM
END:VEVENT
END:VCALENDAR
