BEGIN:VCALENDAR
VERSION:2.0
PRODID:-//Jazzclub Leipzig e.V. //NONSGML Events //EN
CALSCALE:GREGORIAN
X-WR-CALNAME:Jazzclub Leipzig e.V.
BEGIN:VEVENT
X-CREATED:20240522T103946Z
UID:32656
DTEND;VALUE=DATE:20240629T213000
DTSTART;VALUE=DATE:20240629T193000
DTSTAMP:20260424T224842Z
LOCATION:Das Tietz (Chemnitz)
DESCRIPTION:Nach gefeierten Auftritten auf verschiedenen Festivalbühnen im Jahr 2021 darf man sich nun auf eine erneute Kollaboration des Trios freuen, das die Kunst der Improvisation auf höchstem Niveau beherrscht · […]
SUMMARY:TRIO Paraskevopoulos/Winter/Pröll 
ORGANIZER:Jazzclub Leipzig e.V.
URL;VALUE=URI:https://www.jazzclub-leipzig.de/kategorie-jazzkalender/trio-paraskevopoulos-winter-proell/
TRANSP:OPAQUE
BEGIN:VALARM
ACTION:DISPLAY
TRIGGER;VALUE=DATE-TIME:20240629T183000Z
DESCRIPTION:Erinnerung an TRIO Paraskevopoulos/Winter/Pröll 
END:VALARM
END:VEVENT
END:VCALENDAR
