BEGIN:VCALENDAR
VERSION:2.0
PRODID:-//Jazzclub Leipzig e.V. //NONSGML Events //EN
CALSCALE:GREGORIAN
X-WR-CALNAME:Jazzclub Leipzig e.V.
BEGIN:VEVENT
X-CREATED:20240522T103832Z
UID:32653
DTEND;VALUE=DATE:20240629T220000
DTSTART;VALUE=DATE:20240629T200000
DTSTAMP:20260422T130145Z
LOCATION:Horns Erben
DESCRIPTION:Der Pianist präsentiert vor allem eigenen Songs, jedoch werden auch Einflüsse aus verschiedenen musikalischen Traditionen zu hören sein, darunter zum Beispiel Melodien aus seiner zweiten Heimat Okinawa · Christian Mehler […]
SUMMARY:HMT Abschlusskonzert: Robbi Nakayama
ORGANIZER:Jazzclub Leipzig e.V.
URL;VALUE=URI:https://www.jazzclub-leipzig.de/kategorie-jazzkalender/hmt-abschlusskonzert-robbi-nakayama/
TRANSP:OPAQUE
BEGIN:VALARM
ACTION:DISPLAY
TRIGGER;VALUE=DATE-TIME:20240629T190000Z
DESCRIPTION:Erinnerung an HMT Abschlusskonzert: Robbi Nakayama
END:VALARM
END:VEVENT
END:VCALENDAR
