BEGIN:VCALENDAR
VERSION:2.0
PRODID:-//Jazzclub Leipzig e.V. //NONSGML Events //EN
CALSCALE:GREGORIAN
X-WR-CALNAME:Jazzclub Leipzig e.V.
BEGIN:VEVENT
X-CREATED:20240522T103319Z
UID:32644
DTEND;VALUE=DATE:20240627T200000
DTSTART;VALUE=DATE:20240627T180000
DTSTAMP:20260424T224527Z
LOCATION:TIMMENDORFER STRAND (SCHL.-HOLST.)
DESCRIPTION:JazzBaltica verwandelt jedes Jahr im Juni den Festsaal des Maritim Seehotel Timmendorfer Strand und den umliegenden Strandpark in eine maritime Ku- lisse für Jazzmusik direkt am Meer. Hier treffen internationale […]
SUMMARY:JazzBaltica (27.-30.6.)
ORGANIZER:Jazzclub Leipzig e.V.
URL;VALUE=URI:https://www.jazzclub-leipzig.de/kategorie-jazzkalender/jazzbaltica-27-30-6/
TRANSP:OPAQUE
BEGIN:VALARM
ACTION:DISPLAY
TRIGGER;VALUE=DATE-TIME:20240627T170000Z
DESCRIPTION:Erinnerung an JazzBaltica (27.-30.6.)
END:VALARM
END:VEVENT
END:VCALENDAR
