BEGIN:VCALENDAR
VERSION:2.0
PRODID:-//Jazzclub Leipzig e.V. //NONSGML Events //EN
CALSCALE:GREGORIAN
X-WR-CALNAME:Jazzclub Leipzig e.V.
BEGIN:VEVENT
X-CREATED:20240522T102503Z
UID:32632
DTEND;VALUE=DATE:20240623T220000
DTSTART;VALUE=DATE:20240623T200000
DTSTAMP:20260425T000755Z
LOCATION:Rosental
DESCRIPTION:Das Gewandhausorchester lädt Leipziger*innen zum nunmehr 15. Mal ein, an zwei Sommerabenden die Konzertsaison im malerischen Rosental festlich ausklingen zu lassen · Eintritt frei
SUMMARY:Klassik airleben
ORGANIZER:Jazzclub Leipzig e.V.
URL;VALUE=URI:https://www.jazzclub-leipzig.de/kategorie-jazzkalender/klassik-airleben-10/
TRANSP:OPAQUE
BEGIN:VALARM
ACTION:DISPLAY
TRIGGER;VALUE=DATE-TIME:20240623T190000Z
DESCRIPTION:Erinnerung an Klassik airleben
END:VALARM
END:VEVENT
END:VCALENDAR
