BEGIN:VCALENDAR
VERSION:2.0
PRODID:-//Jazzclub Leipzig e.V. //NONSGML Events //EN
CALSCALE:GREGORIAN
X-WR-CALNAME:Jazzclub Leipzig e.V.
BEGIN:VEVENT
X-CREATED:20240522T101621Z
UID:32626
DTEND;VALUE=DATE:20240620T140000
DTSTART;VALUE=DATE:20240620T120000
DTSTAMP:20260424T225818Z
LOCATION:Leipzig
DESCRIPTION:Die urfranzösische Idee der Fête de la musique ist es, weltweit ein ungezwungenes Fest der musikalischen Lebensart zu feiern. Ganz besonders Amateurmusiker*innen aller Genres, aber natürlich auch Profis sind jedes […]
SUMMARY:Fête de la musique
ORGANIZER:Jazzclub Leipzig e.V.
URL;VALUE=URI:https://www.jazzclub-leipzig.de/kategorie-jazzkalender/fete-de-la-musique-10/
TRANSP:OPAQUE
BEGIN:VALARM
ACTION:DISPLAY
TRIGGER;VALUE=DATE-TIME:20240620T110000Z
DESCRIPTION:Erinnerung an Fête de la musique
END:VALARM
END:VEVENT
END:VCALENDAR
