BEGIN:VCALENDAR
VERSION:2.0
PRODID:-//Jazzclub Leipzig e.V. //NONSGML Events //EN
CALSCALE:GREGORIAN
X-WR-CALNAME:Jazzclub Leipzig e.V.
BEGIN:VEVENT
X-CREATED:20240522T101325Z
UID:32620
DTEND;VALUE=DATE:20240619T220000
DTSTART;VALUE=DATE:20240619T200000
DTSTAMP:20260424T225155Z
LOCATION:Horns Erben
DESCRIPTION:Zusammen mit seiner Band Analog Organism wird er eine Mischung aus Stücken des American Songbooks und eigenen Kompositionen präsentieren · Elias Vollmer (hammond org), Victor Vollmer (g), Jonas Müller (dr) […]
SUMMARY:HMT Abschlusskonzert:Müller
ORGANIZER:Jazzclub Leipzig e.V.
URL;VALUE=URI:https://www.jazzclub-leipzig.de/kategorie-jazzkalender/hmt-abschlusskonzertmueller/
TRANSP:OPAQUE
BEGIN:VALARM
ACTION:DISPLAY
TRIGGER;VALUE=DATE-TIME:20240619T190000Z
DESCRIPTION:Erinnerung an HMT Abschlusskonzert:Müller
END:VALARM
END:VEVENT
END:VCALENDAR
