BEGIN:VCALENDAR
VERSION:2.0
PRODID:-//Jazzclub Leipzig e.V. //NONSGML Events //EN
CALSCALE:GREGORIAN
X-WR-CALNAME:Jazzclub Leipzig e.V.
BEGIN:VEVENT
X-CREATED:20240522T100905Z
UID:32613
DTEND;VALUE=DATE:20240619T200000
DTSTART;VALUE=DATE:20240619T180000
DTSTAMP:20260424T222823Z
LOCATION:Conne Island
DESCRIPTION:Your favorite Wednesday hangout! · Spendenempfehlung 2-5€
SUMMARY:Halftime
ORGANIZER:Jazzclub Leipzig e.V.
URL;VALUE=URI:https://www.jazzclub-leipzig.de/kategorie-jazzkalender/halftime-20/
TRANSP:OPAQUE
BEGIN:VALARM
ACTION:DISPLAY
TRIGGER;VALUE=DATE-TIME:20240619T170000Z
DESCRIPTION:Erinnerung an Halftime
END:VALARM
END:VEVENT
END:VCALENDAR
