BEGIN:VCALENDAR
VERSION:2.0
PRODID:-//Jazzclub Leipzig e.V. //NONSGML Events //EN
CALSCALE:GREGORIAN
X-WR-CALNAME:Jazzclub Leipzig e.V.
BEGIN:VEVENT
X-CREATED:20240522T095611Z
UID:32602
DTEND;VALUE=DATE:20240614T220000
DTSTART;VALUE=DATE:20240614T200000
DTSTAMP:20260424T224949Z
LOCATION:Horns Erben
DESCRIPTION:Das Trio um Pianist und Bandleader Dominik Gershkovich präsentiert eine Mischung aus punktgenauen Kompositionen und leidenschaftlicher Improvisation, atmosphärischen Balladen sowie energetischen Grooves · Dominik Gershkovich (p), Guillermo Valdivia (b), Lucas […]
SUMMARY:Gershkovich Trio 
ORGANIZER:Jazzclub Leipzig e.V.
URL;VALUE=URI:https://www.jazzclub-leipzig.de/kategorie-jazzkalender/gershkovich-trio/
TRANSP:OPAQUE
BEGIN:VALARM
ACTION:DISPLAY
TRIGGER;VALUE=DATE-TIME:20240614T190000Z
DESCRIPTION:Erinnerung an Gershkovich Trio 
END:VALARM
END:VEVENT
END:VCALENDAR
