BEGIN:VCALENDAR
VERSION:2.0
PRODID:-//Jazzclub Leipzig e.V. //NONSGML Events //EN
CALSCALE:GREGORIAN
X-WR-CALNAME:Jazzclub Leipzig e.V.
BEGIN:VEVENT
X-CREATED:20240522T095308Z
UID:32591
DTEND;VALUE=DATE:20240613T180000
DTSTART;VALUE=DATE:20240613T160000
DTSTAMP:20260425T003351Z
LOCATION:Hauptbahnhof Osthalle
DESCRIPTION:An drei Tagen präsentieren junge Nachwuchs-Künstler*innen ihre Interpretationen verschiedener Werke von Johann Sebastian Bach · Eintritt frei
SUMMARY:»BachSpiele 24« (13.-15.6.)
ORGANIZER:Jazzclub Leipzig e.V.
URL;VALUE=URI:https://www.jazzclub-leipzig.de/kategorie-jazzkalender/bachspiele-24-13-15-6/
TRANSP:OPAQUE
BEGIN:VALARM
ACTION:DISPLAY
TRIGGER;VALUE=DATE-TIME:20240613T150000Z
DESCRIPTION:Erinnerung an »BachSpiele 24« (13.-15.6.)
END:VALARM
END:VEVENT
END:VCALENDAR
