BEGIN:VCALENDAR
VERSION:2.0
PRODID:-//Jazzclub Leipzig e.V. //NONSGML Events //EN
CALSCALE:GREGORIAN
X-WR-CALNAME:Jazzclub Leipzig e.V.
BEGIN:VEVENT
X-CREATED:20240522T095013Z
UID:32588
DTEND;VALUE=DATE:20240612T213000
DTSTART;VALUE=DATE:20240612T193000
DTSTAMP:20260425T000409Z
LOCATION:Horns Erben
DESCRIPTION:Zusammen kommen Studierende der Gitarrenklasse, das Gitarrenensemble Moritz Sembritzki sowie Lucas Rauch (dr) und Willy Valdivia (b) · VVK 9/6€, AK 12/8€
SUMMARY:Klassenabend Jazzgitarre HMT
ORGANIZER:Jazzclub Leipzig e.V.
URL;VALUE=URI:https://www.jazzclub-leipzig.de/kategorie-jazzkalender/klassenabend-jazzgitarre-hmt/
TRANSP:OPAQUE
BEGIN:VALARM
ACTION:DISPLAY
TRIGGER;VALUE=DATE-TIME:20240612T183000Z
DESCRIPTION:Erinnerung an Klassenabend Jazzgitarre HMT
END:VALARM
END:VEVENT
END:VCALENDAR
