BEGIN:VCALENDAR
VERSION:2.0
PRODID:-//Jazzclub Leipzig e.V. //NONSGML Events //EN
CALSCALE:GREGORIAN
X-WR-CALNAME:Jazzclub Leipzig e.V.
BEGIN:VEVENT
X-CREATED:20240522T094414Z
UID:32579
DTEND;VALUE=DATE:20240609T200000
DTSTART;VALUE=DATE:20240609T180000
DTSTAMP:20260425T004542Z
LOCATION:WUK Theater Quartier (Halle/Saale)
DESCRIPTION:Zum Abschluss der Reihe Forum Grenzgänge treten das neu gegründete Leipziger Trio Paene Insula aus Leipzig sowie im Anschluss Steffen Roth und SueKi Yee auf · VVK 25/17/10€
SUMMARY:Forum Grenzgänge pt. 6 | Paene Insulae / Steffen Roth + SueKi Yee
ORGANIZER:Jazzclub Leipzig e.V.
URL;VALUE=URI:https://www.jazzclub-leipzig.de/kategorie-jazzkalender/forum-grenzgaenge-pt-6-paene-insulae-steffen-roth-sueki-yee/
TRANSP:OPAQUE
BEGIN:VALARM
ACTION:DISPLAY
TRIGGER;VALUE=DATE-TIME:20240609T170000Z
DESCRIPTION:Erinnerung an Forum Grenzgänge pt. 6 | Paene Insulae / Steffen Roth + SueKi Yee
END:VALARM
END:VEVENT
END:VCALENDAR
