BEGIN:VCALENDAR
VERSION:2.0
PRODID:-//Jazzclub Leipzig e.V. //NONSGML Events //EN
CALSCALE:GREGORIAN
X-WR-CALNAME:Jazzclub Leipzig e.V.
BEGIN:VEVENT
X-CREATED:20240522T094244Z
UID:32573
DTEND;VALUE=DATE:20240609T213000
DTSTART;VALUE=DATE:20240609T193000
DTSTAMP:20260425T020250Z
LOCATION:UT Connewitz
DESCRIPTION:Die Klangkünstlerin und Produzentin Birch ist für temperamentvolle Shows sowie spontane Einlagen auf der Bühne bekannt. Flankiert wird ihre Performance an diesem Abend von der Arbeit Sol Sarrateas, die die […]
SUMMARY:TeleskopRadius: Sophie Birch & Sol Sarratea 
ORGANIZER:Jazzclub Leipzig e.V.
URL;VALUE=URI:https://www.jazzclub-leipzig.de/kategorie-jazzkalender/teleskopradius-sophie-birch-sol-sarratea/
TRANSP:OPAQUE
BEGIN:VALARM
ACTION:DISPLAY
TRIGGER;VALUE=DATE-TIME:20240609T183000Z
DESCRIPTION:Erinnerung an TeleskopRadius: Sophie Birch &amp\; Sol Sarratea 
END:VALARM
END:VEVENT
END:VCALENDAR
