BEGIN:VCALENDAR
VERSION:2.0
PRODID:-//Jazzclub Leipzig e.V. //NONSGML Events //EN
CALSCALE:GREGORIAN
X-WR-CALNAME:Jazzclub Leipzig e.V.
BEGIN:VEVENT
X-CREATED:20240522T093958Z
UID:32570
DTEND;VALUE=DATE:20240609T220000
DTSTART;VALUE=DATE:20240609T200000
DTSTAMP:20260425T021217Z
LOCATION:die naTo
DESCRIPTION:An diesem Abend treffen zwei herausragende Acappella-Formationen aufeinander: Quintense haben sich im Kontext der HMT zusammengefunden und absolvieren an diesem Abend gewissermaßen ein Heimspiel. Kujava kommen aus dem nördlichen Helsinki […]
SUMMARY:Quintense meets Kujava: ein unvergleichliches Doppelkonzert
ORGANIZER:Jazzclub Leipzig e.V.
URL;VALUE=URI:https://www.jazzclub-leipzig.de/kategorie-jazzkalender/forum-grenzgaenge-pt-5-elisabeth-coudoux-liz-kosack/
TRANSP:OPAQUE
BEGIN:VALARM
ACTION:DISPLAY
TRIGGER;VALUE=DATE-TIME:20240609T190000Z
DESCRIPTION:Erinnerung an Quintense meets Kujava: ein unvergleichliches Doppelkonzert
END:VALARM
END:VEVENT
END:VCALENDAR
