BEGIN:VCALENDAR
VERSION:2.0
PRODID:-//Jazzclub Leipzig e.V. //NONSGML Events //EN
CALSCALE:GREGORIAN
X-WR-CALNAME:Jazzclub Leipzig e.V.
BEGIN:VEVENT
X-CREATED:20240522T093853Z
UID:32567
DTEND;VALUE=DATE:20240608T220000
DTSTART;VALUE=DATE:20240608T200000
DTSTAMP:20260425T002903Z
LOCATION:Horns Erben
DESCRIPTION:Die Leipziger Band spielt tief tanzbare Funk-Grooves mit spaciger Weirdness und jazziger Euphorie · Linus Bornheim (tp), Gregor Forbes (keys), Philipp Martin (eb), Pablo Tarantino (dr) · VVK 14/12€, AK […]
SUMMARY:Sly Chameleons
ORGANIZER:Jazzclub Leipzig e.V.
URL;VALUE=URI:https://www.jazzclub-leipzig.de/kategorie-jazzkalender/sly-chameleons/
TRANSP:OPAQUE
BEGIN:VALARM
ACTION:DISPLAY
TRIGGER;VALUE=DATE-TIME:20240608T190000Z
DESCRIPTION:Erinnerung an Sly Chameleons
END:VALARM
END:VEVENT
END:VCALENDAR
