BEGIN:VCALENDAR
VERSION:2.0
PRODID:-//Jazzclub Leipzig e.V. //NONSGML Events //EN
CALSCALE:GREGORIAN
X-WR-CALNAME:Jazzclub Leipzig e.V.
BEGIN:VEVENT
X-CREATED:20240522T093742Z
UID:32563
DTEND;VALUE=DATE:20240607T170000
DTSTART;VALUE=DATE:20240607T150000
DTSTAMP:20260425T000409Z
LOCATION:Hamburg
DESCRIPTION:Hamburgs größtes Jazzfestival bringt im Juni 2024 wieder Schwung in den Hafen. Wie schon in den vergangenen Jahren bietet das Programm auch 2024 nicht nur hochkarätige Jazz-Acts. Auch Musiker*innen aus […]
SUMMARY:Elbjazz (7.-8.6.)
ORGANIZER:Jazzclub Leipzig e.V.
URL;VALUE=URI:https://www.jazzclub-leipzig.de/kategorie-jazzkalender/elbjazz-7-8-6/
TRANSP:OPAQUE
BEGIN:VALARM
ACTION:DISPLAY
TRIGGER;VALUE=DATE-TIME:20240607T140000Z
DESCRIPTION:Erinnerung an Elbjazz (7.-8.6.)
END:VALARM
END:VEVENT
END:VCALENDAR
