BEGIN:VCALENDAR
VERSION:2.0
PRODID:-//Jazzclub Leipzig e.V. //NONSGML Events //EN
CALSCALE:GREGORIAN
X-WR-CALNAME:Jazzclub Leipzig e.V.
BEGIN:VEVENT
X-CREATED:20240522T092629Z
UID:32557
DTEND;VALUE=DATE:20240606T213000
DTSTART;VALUE=DATE:20240606T193000
DTSTAMP:20260425T001945Z
LOCATION:Horns Erben
DESCRIPTION:Jeden Donnerstag findet die Jazzsession im Horns Erben statt · Session-Opener: Lisa Wetzel (voc), Hakim Azmi (p), Oskar Hentschel (ts), Henri Reichmann (dr), Guillermo Daniel Valdivia Mon Salvez (b) · […]
SUMMARY:Horns[dʒæz]Session
ORGANIZER:Jazzclub Leipzig e.V.
URL;VALUE=URI:https://www.jazzclub-leipzig.de/kategorie-jazzkalender/hornsd%ca%92aezsession-83/
TRANSP:OPAQUE
BEGIN:VALARM
ACTION:DISPLAY
TRIGGER;VALUE=DATE-TIME:20240606T183000Z
DESCRIPTION:Erinnerung an Horns[dʒæz]Session
END:VALARM
END:VEVENT
END:VCALENDAR
